Workbook
Name Länder: Länder!$A$1:$A$253
Name Länderkennung: Länder!$B$2:$B$253

Sheet Eingabe Einzelversand
A1: ACHTUNG: Dieses Tabellenblatt ist geschützt, damit die Formeln für Spalte F und Spalte J nicht verloren gehen. Alle notwendigen Zellen können Sie auch OHNE PASSWORT bearbeiten. Bitte beachten Sie, dass Sie über die geschützten Zellen hinweg nichts einfügen können.
A2: max 35 Zeichen | B2: Gesamt max. 35 Zeichen, Falls Sie die Informationen in einer Spalte haben, tragen Sie alles bei "Nachname" ein | F2: Wird automatisch befüllt - bei ROT ist die Eingabe zu lang und wird abgeschnitten !!! | G2: max 35 Zeichen | J2: Wird automatisch befüllt | M2: Ausgeschrieben, oder wählen Sie aus dem Dropdown | O2: Optional | R2: max 35 Zeichen
A3: Firma | B3: Anrede | C3: Titel | D3: Vorname | E3: Nachname | F3: Empfänger | G3: Zusatz (Abteilung o.ä.) | H3: Straße | I3: Haus- nummer | J3: Länderkennung | K3: PLZ | L3: Ort | M3: Land | N3: Bitte leer lassen | O3: Anzahl je Art. | P3: Referenz (AB Nr) | Q3: Art. Nr | R3: Firma Absender
F4: =CONCATENATE(B4,IF(B4<>""," ",""),C4,IF(C4<>""," ",""),D4,IF(D4<>""," ",""),E4) | J4: =IFERROR(VLOOKUP(M4,Länder!$A$2:$B$253,2,FALSE),"")
F5: =CONCATENATE(B5,IF(B5<>""," ",""),C5,IF(C5<>""," ",""),D5,IF(D5<>""," ",""),E5) | J5: =IFERROR(VLOOKUP(M5,Länder!$A$2:$B$253,2,FALSE),"")
F6: =CONCATENATE(B6,IF(B6<>""," ",""),C6,IF(C6<>""," ",""),D6,IF(D6<>""," ",""),E6) | J6: =IFERROR(VLOOKUP(M6,Länder!$A$2:$B$253,2,FALSE),"")
F7: =CONCATENATE(B7,IF(B7<>""," ",""),C7,IF(C7<>""," ",""),D7,IF(D7<>""," ",""),E7) | J7: =IFERROR(VLOOKUP(M7,Länder!$A$2:$B$253,2,FALSE),"")
F8: =CONCATENATE(B8,IF(B8<>""," ",""),C8,IF(C8<>""," ",""),D8,IF(D8<>""," ",""),E8) | J8: =IFERROR(VLOOKUP(M8,Länder!$A$2:$B$253,2,FALSE),"")
F9: =CONCATENATE(B9,IF(B9<>""," ",""),C9,IF(C9<>""," ",""),D9,IF(D9<>""," ",""),E9) | J9: =IFERROR(VLOOKUP(M9,Länder!$A$2:$B$253,2,FALSE),"")
F10: =CONCATENATE(B10,IF(B10<>""," ",""),C10,IF(C10<>""," ",""),D10,IF(D10<>""," ",""),E10) | J10: =IFERROR(VLOOKUP(M10,Länder!$A$2:$B$253,2,FALSE),"")
F11: =CONCATENATE(B11,IF(B11<>""," ",""),C11,IF(C11<>""," ",""),D11,IF(D11<>""," ",""),E11) | J11: =IFERROR(VLOOKUP(M11,Länder!$A$2:$B$253,2,FALSE),"")
F12: =CONCATENATE(B12,IF(B12<>""," ",""),C12,IF(C12<>""," ",""),D12,IF(D12<>""," ",""),E12) | J12: =IFERROR(VLOOKUP(M12,Länder!$A$2:$B$253,2,FALSE),"")
F13: =CONCATENATE(B13,IF(B13<>""," ",""),C13,IF(C13<>""," ",""),D13,IF(D13<>""," ",""),E13) | J13: =IFERROR(VLOOKUP(M13,Länder!$A$2:$B$253,2,FALSE),"")
F14: =CONCATENATE(B14,IF(B14<>""," ",""),C14,IF(C14<>""," ",""),D14,IF(D14<>""," ",""),E14) | J14: =IFERROR(VLOOKUP(M14,Länder!$A$2:$B$253,2,FALSE),"")
F15: =CONCATENATE(B15,IF(B15<>""," ",""),C15,IF(C15<>""," ",""),D15,IF(D15<>""," ",""),E15) | J15: =IFERROR(VLOOKUP(M15,Länder!$A$2:$B$253,2,FALSE),"")
... F65530: =CONCATENATE(B65530,IF(B65530<>""," ",""),C65530,IF(C65530<>""," ",""),D65530,IF(D65530<>""," ",""),E65530) | J65530: =IFERROR(VLOOKUP(M65530,Länder!$A$2:$B$253,2,FALSE),"")
F65531: =CONCATENATE(B65531,IF(B65531<>""," ",""),C65531,IF(C65531<>""," ",""),D65531,IF(D65531<>""," ",""),E66) | J65531: =IFERROR(VLOOKUP(M65531,Länder!$A$2:$B$253,2,FALSE),"")
F65532: =CONCATENATE(B65532,IF(B65532<>""," ",""),C65532,IF(C65532<>""," ",""),D65532,IF(D65532<>""," ",""),E65532) | J65532: =IFERROR(VLOOKUP(M65532,Länder!$A$2:$B$253,2,FALSE),"")
F65533: =CONCATENATE(B65533,IF(B65533<>""," ",""),C65533,IF(C65533<>""," ",""),D65533,IF(D65533<>""," ",""),E65533) | J65533: =IFERROR(VLOOKUP(M65533,Länder!$A$2:$B$253,2,FALSE),"")
F65534: =CONCATENATE(B65534,IF(B65534<>""," ",""),C65534,IF(C65534<>""," ",""),D65534,IF(D65534<>""," ",""),E65534) | J65534: =IFERROR(VLOOKUP(M65534,Länder!$A$2:$B$253,2,FALSE),"")
F65535: =CONCATENATE(B65535,IF(B65535<>""," ",""),C65535,IF(C65535<>""," ",""),D65535,IF(D65535<>""," ",""),E65535) | J65535: =IFERROR(VLOOKUP(M65535,Länder!$A$2:$B$253,2,FALSE),"")
F65536: =CONCATENATE(B65536,IF(B65536<>""," ",""),C65536,IF(C65536<>""," ",""),D65536,IF(D65536<>""," ",""),E65536) | J65536: =IFERROR(VLOOKUP(M65536,Länder!$A$2:$B$253,2,FALSE),"")
F65537: =CONCATENATE(B65537,IF(B65537<>""," ",""),C65537,IF(C65537<>""," ",""),D65537,IF(D65537<>""," ",""),E65537) | J65537: =IFERROR(VLOOKUP(M65537,Länder!$A$2:$B$253,2,FALSE),"")

Sheet Länder
A2: Deutschland | B2: DE
A3: Österreich | B3: AT
A4: Schweiz | B4: CH
A5: Belgien | B5: BE
A6: Dänemark | B6: DK
A7: Frankreich | B7: FR
A8: Großbritannien | B8: GB
A9: Irland | B9: IE
A10: Italien | B10: IT
A11: Liechtenstein | B11: LI
A12: Luxemburg | B12: LU
A13: Niederlande | B13: NL
... A253: Simbabwe | B253: ZW
